BEGIN:VCALENDAR
VERSION:2.0
PRODID:-//Veterans In Politics International - ECPv5.0.2.1//NONSGML v1.0//EN
CALSCALE:GREGORIAN
METHOD:PUBLISH
X-WR-CALNAME:Veterans In Politics International
X-ORIGINAL-URL:https://veteransinpolitics.org
X-WR-CALDESC:Events for Veterans In Politics International
BEGIN:VTIMEZONE
TZID:UTC
BEGIN:STANDARD
TZOFFSETFROM:+0000
TZOFFSETTO:+0000
TZNAME:UTC
DTSTART:20180101T000000
END:STANDARD
END:VTIMEZONE
BEGIN:VEVENT
DTSTART;TZID=UTC:20180505T090000
DTEND;TZID=UTC:20180505T130000
DTSTAMP:20260422T102919
CREATED:20180430T060413Z
LAST-MODIFIED:20180430T060516Z
UID:6967-1525510800-1525525200@veteransinpolitics.org
SUMMARY:“Open to the Public: Veterans In Politics Final Endorsement Interviews 2018”
DESCRIPTION:“Endorsement Interviews for the following:  Trustee\, Clark County School Board District G\, Clark County\, Sheriff\, Nevada State\, Treasurer\, State Assembly\, District 20\, State Senate\, District 21\, Clark County\, District Attorney\, Trustee\, Clark County School Board District F \n \nClark County\, Nevada \n(VIPI) Veterans In Politics International\, we will conduct our Endorsement Interviews for the following; Clark County\, Sheriff\, Nevada State\, Treasurer\, State Assembly\, District 20\, State Senate\, District 21\, Clark County\, District Attorney\, Trustee\, Clark County School Board District F \nQ&A Only No Endorsement will be given for the seat below: \nState Assembly\, District 13 \nThe location will be Lakeside Business Suites in Desert Shores (https://lakesuites.com/ ) on Saturday\, May 5\, 2018.\nLocated at: 2620 Regatta Drive Suite 102\, Las Vegas\, NV. 89128/Second Floor Conference Room. \nPhone: (702) 869-8800 \nMembers of the public and local media are welcome to attend and admission is complimentary. \nVIPI takes pride in transparency. All interviews are filmed and published ‘as is’ to a public YouTube page in addition to www.VeteransInPolitics.org and also on several social media pages. \nAll candidates for this year’s election have been invited to participate. \nBelow is a schedule for each seat that will be interviewed. \nThe Veterans In Politics International takes great pride in educating the public on each candidate running for elected office. \nWe never “rubber stamp” a candidate\, all endorsements are “earned”. \nCome out and support your favorite candidate and educate yourself on the candidates running to be your next elected representative. \nFor information contact Steve Sanson at (702) 283-8088. \nThe moderator for this event is Natalie Winslow Mrs. Summerlin. \nSponsors: \nRon “Q” for Clark County Treasurer\, Michael Broadway Real-estate\, Real Water\, Lakeside Business Suites and more to be announced. \nThe Cinco de Mayo Candidate after party will be in full swing from 4-6pm on the Balcony of Lakeside Business Suites. Open Bar\, Food\, and Music $10 per person. \n11 Candidates that will be in Attendance: \nElected Seat \n  \n9:00-9:30am \nClark County\, Sheriff \nTim Bedwell \nMatt Caldwell \n  \n10:00-10:30pm \nNevada State\, Treasurer \nBob Beers \nDerek Uehara \n  \n10:30-11:00am \nState Assembly\, District 20 \nMichael L. McDonald \n  \n11:00-11:30pm \nState Senate\, District 21 \nJay Craddock \nRon McGinnis \n  \n11:30-12:00pm \nClark County\, District Attorney \nSteve Wolfson \n  \n12:00-12:30pm \nTrustee\, Clark County School Board District F \nDanielle Ford \nMike Thomas \nQ&A Only No Endorsement will be given to the seat below: \n  \n12:30-1:00pm  \nState Assembly\, District 13 \nSteve Sanson \nDistributed By:\nVeterans In Politics International\, Inc. ®\nPost Office Box 28211\nLas Vegas\, NV 89126\nwww.veteransinpolitics.org\n702 283 8088 \n\n                    \n                    \n                    \n                
URL:https://veteransinpolitics.org/event/open-to-the-public-veterans-in-politics-final-endorsement-interviews-2018/
ATTACH;FMTTYPE=image/jpeg:https://veteransinpolitics.org/wp-content/uploads/2018/04/kevin-child-4-e1525047424832.jpg
END:VEVENT
END:VCALENDAR